BEGIN:VCALENDAR
VERSION:2.0
PRODID:-//https://www.barry-lane-songwriter.org.uk///NONSGML kigkonsult.se iCalcreator 2.10.15//
METHOD:PUBLISH
BEGIN:VEVENT
UID:20260421T124651UTC-5977UDxk7E@https://www.barry-lane-songwriter.org.uk/
DTSTAMP:20260421T124651Z
DESCRIPTION:The Fridge Mechanics are invited to present a showcase of Barry
 's songs at the well known Bristol Fringe venue as part of their popular O
 pen Mic/Songwriter Showcase evenings - we'll be doing 3 songs in the first
  half\, starting 8pm\, then another 3 songs in the second half.&nbsp\; htt
 p://barry-lane-songwriter.org.uk/gigs2/event/15-bristol-fringe-songwriters
 -showcase
DTSTART:20220327T193000Z
DTEND:20220327T220000Z
LOCATION:The Bristol Fringe (32 Princess Victoria St\, Bristol BS8 4BZ\, UK
 )
SUMMARY:Bristol Fringe Songwriters Showcase 
URL:http://barry-lane-songwriter.org.uk/gigs2/event/15-bristol-fringe-songw
 riters-showcase
END:VEVENT
END:VCALENDAR
