BEGIN:VCALENDAR
VERSION:2.0
PRODID:-//https://www.barry-lane-songwriter.org.uk///NONSGML kigkonsult.se iCalcreator 2.10.15//
METHOD:PUBLISH
BEGIN:VEVENT
UID:20260421T122816UTC-2438p5iNGs@https://www.barry-lane-songwriter.org.uk/
DTSTAMP:20260421T122816Z
DESCRIPTION:Barry and the Fridges have visited Priston 4 times the past few
  years\, three times on the Chill stage and once on the Village Green stag
 e.&nbsp\;&nbsp\; This is an amazing\, ultra friendly festival with a great
  atmosphere.&nbsp\; We are appearing on the delightful Chill Stage\, with 
 folk in armchairs etc.&nbsp\; Sunday afternoon 17 Sept\, but come along fo
 r the day\, there are many wonderful acts appearing on 2 stages\, with a l
 ot on for kids.:&nbsp\; Have a look at the programme:&nbsp\; https://www.p
 riston.org.uk/festival&nbsp\;&nbsp\;&nbsp\; FREE ENTRY http://barry-lane-s
 ongwriter.org.uk/gigs2/event/2-priston-music-festival
DTSTART:20230917T143000Z
DTEND:20230917T180000Z
LOCATION:Priston Village\, (Priston Village\, Bath BA2\, UK)
SUMMARY:Priston Music Festival
URL:http://barry-lane-songwriter.org.uk/gigs2/event/2-priston-music-festiva
 l
END:VEVENT
END:VCALENDAR
