BEGIN:VCALENDAR
VERSION:2.0
PRODID:-//https://www.barry-lane-songwriter.org.uk///NONSGML kigkonsult.se iCalcreator 2.10.15//
METHOD:PUBLISH
BEGIN:VEVENT
UID:20260421T125449UTC-67464SVsVa@https://www.barry-lane-songwriter.org.uk/
DTSTAMP:20260421T125449Z
DESCRIPTION:We last played at the Keynsham Festival in 2019 and had a grand
  time.&nbsp\; It was the last time our friend Evie sang with us before mov
 ing back to New Zealand.&nbsp\; We have been offered a slot to play again 
 this summer 2023 on the bandstand stage near the river.&nbsp\; Sounds like
  an excellent place to play\, and really looking forward to it.&nbsp\;&nbs
 p\;&nbsp\; Entrance is free to this event.&nbsp\; Keynsham is half way bet
 ween Bristol and Bath\, UK and the festival runst 1st to 7th July with cla
 ssical\, opera\, jass\, folk\, rock music .... and more.&nbsp\; It's a gre
 at family event and we are proud to have been asked to perform there.&nbsp
 \; http://barry-lane-songwriter.org.uk/gigs2/event/9-keynsham-music-festiv
 al
DTSTART:20230702T145000Z
DTEND:20230702T153000Z
LOCATION:Keynsham (15-17 Temple St\, Keynsham\, Bristol BS31 1HF\, UK)
SUMMARY:Keynsham Music Festival
URL:http://barry-lane-songwriter.org.uk/gigs2/event/9-keynsham-music-festiv
 al
END:VEVENT
END:VCALENDAR
